BEGIN:VCALENDAR
VERSION:2.0
PRODID:-//Tukios.com/
BEGIN:VEVENT
UID:d48498ff-be32-4704-a286-26694e3a5349@www.prestigefuneralhomes.com
DTSTAMP:20260424T074047Z
DTSTART:20260424T173000Z
DTEND:20260424T183000Z
SUMMARY:Funeral Service
DESCRIPTION:
URL:https://www.prestigefuneralhomes.com/obituaries/darius-rodgers
LOCATION: 8461 San Pedro St  Los Angeles CA 90003
GEO:33.9617548;-118.2697468
END:VEVENT
END:VCALENDAR